BEGIN:VCALENDAR
VERSION:2.0
METHOD:PUBLISH
BEGIN:VEVENT
UID:WILD_APRICOT_EVENT_3091181_SESSION_1
DTSTART:20181008T043000Z
DTEND:20181008T043000Z
SUMMARY:Healthy housing - Letting the government know what we want
LOCATION:Dunedin community house\, 301 Moray Pl\, Dunedin\, 9016
DESCRIPTION:https://www.pha.org.nz/event-3091181\n\n\n  Public Health Association\n Otago Branch\, Southern DHB\, and Cosy homes\n   \n  Jointly invite you to join them for an easy way\n to influence submissions\n  \n\n   Date: Monday\, 8 October 2018\n  Time: 5pm\n  Where: Dunedin Community House\n  301 Moray Pl\, Dunedin\n   \n  To see the flyer\n\n   \n   \n   \n  \n\n
DTSTAMP:20181221T204714Z
END:VEVENT
END:VCALENDAR
