BEGIN:VCALENDAR
VERSION:2.0
METHOD:PUBLISH
BEGIN:VEVENT
UID:WILD_APRICOT_EVENT_3080704_SESSION_1
DTSTART:20181010T210000Z
DTEND:20181011T010000Z
SUMMARY:2018 PHANZ AGM and Awards presentation
LOCATION:Jubilee Building - Parnell Community Centre  545 Parnell Road\, Parnell\, Auckland
DESCRIPTION:https://www.pha.org.nz/event-3080704\n\n\n  PUBLIC HEALTH ASSOCIATION of NZ\n  Annual General Meeting and PHA Champion Awards Presentation\n  Thursday 11 October 2018\n\n  Jubilee Building - Parnell Community Centre\n  545 Parnell Road\, Parnell\, Auckland \n\n  \nCAUCUS meetings                                                   10.00am – 11.00am     \n\n  Maori             Pukekawa room\n  Pacific            Bledisloe Room\n  Asian              Knox Room\n  Aims:\n      *      Whakawhanaungatanga\n\n        *      Representation on Executive Council\n\n        *      Future engagement\n\n  \n Morning tea/arrival                                                  11.00am – 11.15am\n  \nAnnual General Meeting        Pukekawa Room    11.15am – 12.30pm        \n\n  \n\n  Mihi whakatau: Kaumatua Pita Pou\n\n  Guest speaker: Sidd Mehta\, Generation Zero\n      * View and download 2017 draft minutes and attendee list\n\n\n        * President’s Report\n\n        * Treasurer’s Report\n\n        * Adoption of policies\n\n        * View and download the Remits\n\n        * Executive Council – appointments and farewells\n\n  LUNCH & ANNUAL PHA CHAMPION AWARDS         12.30pm - 2.00pm \n\n\n     PHA EXECUTIVE COUNCIL only meeting                2.00pm - 4.30pm\n    Agenda:\n\n      * Whakawhanaungatanga\n\n        * Governance induction\n\n        * Minutes and reports\n\n        * Treasurer’s report\n\n        * CEO report\n\n        * Close\n\n\n \n
DTSTAMP:20181221T204703Z
END:VEVENT
END:VCALENDAR
