BEGIN:VCALENDAR
VERSION:2.0
METHOD:PUBLISH
BEGIN:VEVENT
UID:WILD_APRICOT_EVENT_3061381_SESSION_1
DTSTART:20181104T200000Z
DTEND:20181105T030000Z
SUMMARY:Re-engaging with Te Tiriti o Waitangi workshop
LOCATION:University of Canterbury Dovedale campus\, Room Whekī 205
DESCRIPTION:https://www.pha.org.nz/event-3061381\n\nPUBLIC HEALTH ASSOCIATION OF NEW ZEALAND\n  CANTERBURY WEST COAST BRANCH\n  brings you\n  Re-engaging with Te Tiriti O Waitangi workshop\n  Monday 5 November 2018\n\n  9am - 4pm\n    University of Canterbury Dovedale campus\, Dovedale Ave\, Ilam \n  Room Whekī 205\n    \n\n  What will the workshop include?\n      * Tiriti revision to ensure we have a shared base-line understanding. It will then launch into a practical working bee focussed on Tiriti application.\n\n      * How to work with Te Tiriti in a way that is mana-enhancing. We will work you through the importance of relationships\, share ideas around working with kāwanatanga\, tino rangatiratanga\, ōritetanga and wairuatanga.\n\n  To see the flyer\n  The facilitators\n  \n  Dr Heather Came-Friar is a seventh generation Pākehā New Zealander who grew up on Ngātiwai land. \n  She has worked for nearly 25 years in health promotion\, public health and/or Māori health and has a long involvement in social justice activism. Heather is a founding member and co-chair of STIR: Stop Institutional Racism\, a fellow of the Health Promotion Forum\, longstanding member of  Public Health Association and an active member of Tāmaki Tiriti Workers.\n   She currently embraces life as an activist scholar. She was lead author of Te Tiriti-based practice in health promotion (2017) and has led shadow reports to various United Nations human rights committees around institutional racism. She is a Senior Lecturer based in the Taupua Waiora Māori Health Research Centre within Auckland University of Technology.\n  \n\n  \n  Dr Nicole Coupe has iwi connections to Kai Tahu\, Te Atiawa\, Ngāti Toa\, Ngāti Rangitane\, Ngāti Raukawa. \n  Her PhD was in Whakamomori : Māori suicide prevention and she has an extensive background in public health and management both within Crown agencies and Māori providers. She is an experienced kaupapa epidemiologist\, a longstanding member of the Public Health Association and a founding member of STIR. She is a co-author of Te Tiriti-based practice in health promotion (2017). \n  Nik is currently Chief Executive Officer for Kirikiriroa Family Start.\n  \n\n  \n\n  \n\n
DTSTAMP:20181221T204652Z
END:VEVENT
END:VCALENDAR
