BEGIN:VCALENDAR
VERSION:2.0
METHOD:PUBLISH
BEGIN:VEVENT
UID:WILD_APRICOT_EVENT_3017647_SESSION_1
DTSTART:20180809T010000Z
DTEND:20180809T030000Z
SUMMARY:PHA Auckland branch hui
LOCATION:Lynfield Room\, Fickling Convention Centre\, 546 Mount Albert Rd\, Three Kings
DESCRIPTION:https://www.pha.org.nz/event-3017647\n\n\n  Public Health Association —\n Auckland Branch\n   \n  Invites all members & friends to join us at our first\n Branch Networking Hui - 2018\n  The theme for our Hui is reconnection\, regeneration & renewal\n  \n\n   Date: Thursday\, 9 August 2018\n  Time: 1pm  -  3pm\n  Where: Lynfield Room\, Fickling Convention Centre\n  546 Mount Albert Rd\, Three Kings\n   \n  Please register here (for catering purposes)\n\n  To see the flyer\n\n   \n   \n   \n  \n\n
DTSTAMP:20181221T204736Z
END:VEVENT
END:VCALENDAR
