BEGIN:VCALENDAR
VERSION:2.0
METHOD:PUBLISH
BEGIN:VEVENT
UID:WILD_APRICOT_EVENT_2960569_SESSION_1
DTSTART:20180703T050000Z
DTEND:20180703T050000Z
SUMMARY:Food for Thought Series - Corporate Rehabilitation and Food Marketing
LOCATION:Alexander McMillan Room\, Community House\,  301 Moray Pl\, Dunedin
DESCRIPTION:https://www.pha.org.nz/event-2960569\n\n\n  The Otago Southland Branch of the\n  Public Health Association brings you the next\n\n  instalment in our Food for Thought series\n  \n\n\n  Corporate Rehabilitation and Food Marketing\n  Professor Janet Hoek\, University of Otago\n  Since becoming implicated in the global obesity crisis\, manufacturers of energy-dense\, nutrient-poor\, foods have developed sophisticated marketing strategies to rehabilitate their brands.\n\n  These strategies shift responsibility from corporations to consumers\, pre-empt policy\, and support sales.\n\n  This seminar will briefly review marketing strategies before exploring recent debates and implications for public health advocacy.\n  \n\n Janet is a professor in the Departments of Public Health and Marketing.  \n\n  Her main research interests are in the public health-marketing-policy nexus\, and she has mostly been involved in the smokefree and nutrition spheres.\n\n  Janet is co-Director of ASPIRE 2025\, has been a member of several NGO and government advisory groups\, and has published widely on smokefree initiatives.\n  \n\n  Registrations close 5pm Monday 25th June 2018\n  Thank you to Weave Together for their support.\n  \n\nContact otago-southland@pha.org.nz for more info  \n\n\n  \n\n
DTSTAMP:20181221T204758Z
END:VEVENT
END:VCALENDAR
