BEGIN:VCALENDAR
VERSION:2.0
METHOD:PUBLISH
BEGIN:VEVENT
UID:WILD_APRICOT_EVENT_2936769_SESSION_1
DTSTART:20180918T120000Z
DTEND:20180921T120000Z
SUMMARY:2018 NZCPHM Annual Scientific Meeting and 10th Anniversary Celebrations
LOCATION:James Cook Hotel\, Wellington
DESCRIPTION:https://www.pha.org.nz/event-2936769\n\n\n\n  The New Zealand College of Public Health Medicine is pleased to announce that the 2018 Annual Scientific Meeting will be held in Wellington from 19-21 September at the James Cook Hotel.\n  Plenary days will be on the Wednesday and Thursday and the Workshop on the Friday.\n  This year we have an overarching theme of 'Partnership\, collaboration\, and leadership in public health in Aotearoa'. The focus for the Wednesday will be 'Te Tiriti - implications for the practice of public health' and Thursday's focus will be 'Collaboration and partnership to improve public health and equity'. \n  The Workshop  'Putting partnerships into practice to achieve greater public health gain and equity'\n  \nRegistration is now open!\n  You are invited to register for the NZ College of Public Health Medicine Annual Scientific Meeting and Workshop.\n  Early Bird Discount\n  Early bird fees are valid up to Monday 30 July and apply to members only - don't miss out! \n  Standard fees take effect from Tuesday 31 July.\n
DTSTAMP:20181221T204726Z
END:VEVENT
END:VCALENDAR
