BEGIN:VCALENDAR
VERSION:2.0
METHOD:PUBLISH
BEGIN:VEVENT
UID:WILD_APRICOT_EVENT_2481879_SESSION_1
DTSTART:20170308T030000Z
DTEND:20170308T050000Z
SUMMARY:Celebrating Women's Working Day
LOCATION:AUT South Campus\, MH117\, 640 Great South Road\, Manukau
DESCRIPTION:https://www.pha.org.nz/event-2481879\n\n\n\n\n  \nPHA Auckland branch\n\n  invites you to celebrate with\n  \n\n  \nCatherine Healy\n  \nPHA's 2016 Public Health Champion\n  \n\n  \nDr Huhana Hickey\n  \nawarded the New Zealand Order of Merit 2015\n  and\n  Sonya Temata\n\n  \nIndigenous Health\n  \n\n  \nWednesday 8 March 2017\n\nDownload the flyer for more information\n
DTSTAMP:20181222T082232Z
END:VEVENT
END:VCALENDAR
