BEGIN:VCALENDAR
VERSION:2.0
METHOD:PUBLISH
BEGIN:VEVENT
UID:WILD_APRICOT_EVENT_2476909_SESSION_1
DTSTART:20141005T110000Z
DTEND:20141008T110000Z
SUMMARY:Connecting Communities\, Policy and Science
LOCATION:Tāmaki Makaurau (Auckland)
DESCRIPTION:https://www.pha.org.nz/event-2476909\n\n\nNew Zealand Population Health Congress 2014\n  This was the first New Zealand Population Health Congress\, hosted by the PHA\, the New Zealand College of Public Health Medicine and the Health promotion Forum.\n  The conference website can still be accessed.\nView Speaker Profiles\nDownload Abstract Journal  Download Congress Proceedings\n  \n\n
DTSTAMP:20181222T082350Z
END:VEVENT
END:VCALENDAR
