BEGIN:VCALENDAR
VERSION:2.0
METHOD:PUBLISH
BEGIN:VEVENT
UID:WILD_APRICOT_EVENT_2379997_SESSION_1
DTSTART:20170402T120000Z
DTEND:20170407T120000Z
SUMMARY:15th World Congress on Public Health
LOCATION:Melbourne\, Australia
DESCRIPTION:https://www.pha.org.nz/event-2379997\n\n\nVoices - Vision - Action\n  The World Congress on Public Health (WCPH) is held every 2-4 years by the World Federation of Public Health Associations (WFPHA) and in Melbourne 2017 we are expecting to attract over 3\,000 delegates.\n  The Congress serves as an international forum for the exchange of knowledge and experiences on key public health issues\, contributing towards protecting and promoting public health at a national and global level.\n  The Congress will convene world leaders and promote targeted actions to meet some of the world’s most pressing challenges in public health\, by increasing understanding of the vital role that health plays in underpinning human welfare and livelihoods.\n  To find out more about the 15th World Congress on Public Health\, visit their website. PHA members are entitled to Congress Partner Rates.\n  \n\n
DTSTAMP:20181222T082221Z
END:VEVENT
END:VCALENDAR
